BEGIN:VCALENDAR
VERSION:2.0
PRODID:-//LKJ Financial - ECPv6.6.4.2//NONSGML v1.0//EN
CALSCALE:GREGORIAN
METHOD:PUBLISH
X-WR-CALNAME:LKJ Financial
X-ORIGINAL-URL:https://lkjfinancial.com
X-WR-CALDESC:Events for LKJ Financial
REFRESH-INTERVAL;VALUE=DURATION:PT1H
X-Robots-Tag:noindex
X-PUBLISHED-TTL:PT1H
BEGIN:VTIMEZONE
TZID:UTC
BEGIN:STANDARD
TZOFFSETFROM:+0000
TZOFFSETTO:+0000
TZNAME:UTC
DTSTART:20240101T000000
END:STANDARD
END:VTIMEZONE
BEGIN:VEVENT
DTSTART;TZID=UTC:20240917T183000
DTEND;TZID=UTC:20240917T210000
DTSTAMP:20260421T134400
CREATED:20240903T185434Z
LAST-MODIFIED:20240903T185704Z
UID:1296-1726597800-1726606800@lkjfinancial.com
SUMMARY:Retirement Planning Today-Two-Day Course: TUESDAYS 9/17 Part A
DESCRIPTION:LKJ Financial will host a two-day Retirement Planning Today course at HCC College\, located at 5601 West Loop\, Houston TX 77081. The class is five hours total\, held over two nights (2.5 hours per night) and is geared towards individuals and couples ages 50 and older who are either near or in retirement. \nWe made sure that this class doesn’t or feel like a sales pitch\, because it’s not one. No products are mentioned EVER and the course is 100% education-only. \nAttendees will receive a 200+ page text book and straightforward information about investment\, income\, healthcare\, and estate planning as well as tax information and the opportunity to ask questions. Attendees may elect to schedule a one-on-one consultation with Lindsey or Adam after the class\, but they have no obligation to do so. \nThe course covers topics including: \n\nDefining retirement and what is important to you\nRealistically estimating income & expenses\nStrategies for creating retirement income\nUnderstanding Social Security and claiming options\nHealthcare planning in retirement\nIRA v. Roth IRA – can you convert? Should you?\nTaxes today and in retirement\nPreserving the value of your estate\n\nContact us at 713.840.0534 or educationrsvp@lkjfinancial.com if you are interested in registering or learning more about one of our upcoming retirement classes.
URL:https://lkjfinancial.com/event/retirement-planning-today-two-day-course-class-1-part-a/
LOCATION:Houston Community College Spring Branch Campus\, 1010 W Sam Houston Pkwy N\, Houston\, TX 77043\, Houston\, TX\, 77043\, United States
CATEGORIES:Retirement Planning College Course
ATTACH;FMTTYPE=image/jpeg:https://lkjfinancial.com/wp-content/uploads/2017/07/teaching-stock-image-purchased-from-iStock-on-070517.jpg
END:VEVENT
BEGIN:VEVENT
DTSTART;TZID=UTC:20240919T183000
DTEND;TZID=UTC:20240919T210000
DTSTAMP:20260421T134400
CREATED:20240903T185857Z
LAST-MODIFIED:20240903T190156Z
UID:1299-1726770600-1726779600@lkjfinancial.com
SUMMARY:Retirement Planning Today-Two-Day Course: THURSDAYS 9/19 Part A
DESCRIPTION:LKJ Financial will host a two-day Retirement Planning Today course at HCC College\, located at 5601 West Loop\, Houston TX 77081. The class is five hours total\, held over two nights (2.5 hours per night) and is geared towards individuals and couples ages 50 and older who are either near or in retirement. \nWe made sure that this class doesn’t or feel like a sales pitch\, because it’s not one. No products are mentioned EVER and the course is 100% education-only. \nAttendees will receive a 200+ page text book and straightforward information about investment\, income\, healthcare\, and estate planning as well as tax information and the opportunity to ask questions. Attendees may elect to schedule a one-on-one consultation with Lindsey or Adam after the class\, but they have no obligation to do so. \nThe course covers topics including: \n\nDefining retirement and what is important to you\nRealistically estimating income & expenses\nStrategies for creating retirement income\nUnderstanding Social Security and claiming options\nHealthcare planning in retirement\nIRA v. Roth IRA – can you convert? Should you?\nTaxes today and in retirement\nPreserving the value of your estate\n\nContact us at 713.840.0534 or educationrsvp@lkjfinancial.com if you are interested in registering or learning more about one of our upcoming retirement classes.
URL:https://lkjfinancial.com/event/retirement-planning-today-two-day-course-thursdays-9-19-part-a/
LOCATION:Houston Community College Spring Branch Campus\, 1010 W Sam Houston Pkwy N\, Houston\, TX 77043\, Houston\, TX\, 77043\, United States
CATEGORIES:Retirement Planning College Course
ATTACH;FMTTYPE=image/jpeg:https://lkjfinancial.com/wp-content/uploads/2017/07/teaching-stock-image-purchased-from-iStock-on-070517.jpg
END:VEVENT
BEGIN:VEVENT
DTSTART;TZID=UTC:20240924T183000
DTEND;TZID=UTC:20240924T210000
DTSTAMP:20260421T134400
CREATED:20240903T185816Z
LAST-MODIFIED:20240903T185816Z
UID:1298-1727202600-1727211600@lkjfinancial.com
SUMMARY:Retirement Planning Today-Two-Day Course: TUESDAYS 9/24 Part B
DESCRIPTION:LKJ Financial will host a two-day Retirement Planning Today course at HCC College\, located at 5601 West Loop\, Houston TX 77081. The class is five hours total\, held over two nights (2.5 hours per night) and is geared towards individuals and couples ages 50 and older who are either near or in retirement. \nWe made sure that this class doesn’t or feel like a sales pitch\, because it’s not one. No products are mentioned EVER and the course is 100% education-only. \nAttendees will receive a 200+ page text book and straightforward information about investment\, income\, healthcare\, and estate planning as well as tax information and the opportunity to ask questions. Attendees may elect to schedule a one-on-one consultation with Lindsey or Adam after the class\, but they have no obligation to do so. \nThe course covers topics including: \n\nDefining retirement and what is important to you\nRealistically estimating income & expenses\nStrategies for creating retirement income\nUnderstanding Social Security and claiming options\nHealthcare planning in retirement\nIRA v. Roth IRA – can you convert? Should you?\nTaxes today and in retirement\nPreserving the value of your estate\n\nContact us at 713.840.0534 or educationrsvp@lkjfinancial.com if you are interested in registering or learning more about one of our upcoming retirement classes.
URL:https://lkjfinancial.com/event/retirement-planning-today-two-day-course-tuesdays-9-24-part-b/
LOCATION:Houston Community College Spring Branch Campus\, 1010 W Sam Houston Pkwy N\, Houston\, TX 77043\, Houston\, TX\, 77043\, United States
CATEGORIES:Retirement Planning College Course
ATTACH;FMTTYPE=image/jpeg:https://lkjfinancial.com/wp-content/uploads/2017/07/teaching-stock-image-purchased-from-iStock-on-070517.jpg
END:VEVENT
BEGIN:VEVENT
DTSTART;TZID=UTC:20240926T183000
DTEND;TZID=UTC:20240926T210000
DTSTAMP:20260421T134400
CREATED:20240903T190033Z
LAST-MODIFIED:20240903T190033Z
UID:1300-1727375400-1727384400@lkjfinancial.com
SUMMARY:Retirement Planning Today-Two-Day Course: THURSDAYS 9/26 Part B
DESCRIPTION:LKJ Financial will host a two-day Retirement Planning Today course at HCC College\, located at 5601 West Loop\, Houston TX 77081. The class is five hours total\, held over two nights (2.5 hours per night) and is geared towards individuals and couples ages 50 and older who are either near or in retirement. \nWe made sure that this class doesn’t or feel like a sales pitch\, because it’s not one. No products are mentioned EVER and the course is 100% education-only. \nAttendees will receive a 200+ page text book and straightforward information about investment\, income\, healthcare\, and estate planning as well as tax information and the opportunity to ask questions. Attendees may elect to schedule a one-on-one consultation with Lindsey or Adam after the class\, but they have no obligation to do so. \nThe course covers topics including: \n\nDefining retirement and what is important to you\nRealistically estimating income & expenses\nStrategies for creating retirement income\nUnderstanding Social Security and claiming options\nHealthcare planning in retirement\nIRA v. Roth IRA – can you convert? Should you?\nTaxes today and in retirement\nPreserving the value of your estate\n\nContact us at 713.840.0534 or educationrsvp@lkjfinancial.com if you are interested in registering or learning more about one of our upcoming retirement classes.
URL:https://lkjfinancial.com/event/retirement-planning-today-two-day-course-thursdays-9-26-part-b/
LOCATION:Houston Community College Spring Branch Campus\, 1010 W Sam Houston Pkwy N\, Houston\, TX 77043\, Houston\, TX\, 77043\, United States
CATEGORIES:Retirement Planning College Course
ATTACH;FMTTYPE=image/jpeg:https://lkjfinancial.com/wp-content/uploads/2017/07/teaching-stock-image-purchased-from-iStock-on-070517.jpg
END:VEVENT
END:VCALENDAR