BEGIN:VCALENDAR
VERSION:2.0
PRODID:-//LKJ Financial - ECPv6.6.4.2//NONSGML v1.0//EN
CALSCALE:GREGORIAN
METHOD:PUBLISH
X-WR-CALNAME:LKJ Financial
X-ORIGINAL-URL:https://lkjfinancial.com
X-WR-CALDESC:Events for LKJ Financial
REFRESH-INTERVAL;VALUE=DURATION:PT1H
X-Robots-Tag:noindex
X-PUBLISHED-TTL:PT1H
BEGIN:VTIMEZONE
TZID:UTC
BEGIN:STANDARD
TZOFFSETFROM:+0000
TZOFFSETTO:+0000
TZNAME:UTC
DTSTART:20250101T000000
END:STANDARD
END:VTIMEZONE
BEGIN:VEVENT
DTSTART;TZID=UTC:20251017T090000
DTEND;TZID=UTC:20251017T113000
DTSTAMP:20260421T174657
CREATED:20250513T232411Z
LAST-MODIFIED:20250513T232411Z
UID:1331-1760691600-1760700600@lkjfinancial.com
SUMMARY:Kids’ Meals Volunteer Day
DESCRIPTION:
URL:https://lkjfinancial.com/event/kids-meals-volunteer-day-2/
LOCATION:330 Garden Oaks Blvd\, 330 Garden Oaks Blvd\, Houston\, TX\, 77018\, United States
END:VEVENT
BEGIN:VEVENT
DTSTART;TZID=UTC:20251115T183000
DTEND;TZID=UTC:20251115T200000
DTSTAMP:20260421T174657
CREATED:20250513T234201Z
LAST-MODIFIED:20250513T234206Z
UID:1347-1763231400-1763236800@lkjfinancial.com
SUMMARY:LKJ 50th Anniversary Ambassador Event
DESCRIPTION:
URL:https://lkjfinancial.com/event/lkj-50th-anniversary-ambassador-event/
LOCATION:Junior League of Houston\, 1811 Briar Oaks Ln\, Houston\, TX\, 77027\, United States
END:VEVENT
END:VCALENDAR